Package: flowClean Version: 1.30.0 Command: chmod a+r flowClean -R && C:\Users\biocbuild\bbs-3.13-bioc\R\bin\R.exe CMD build --keep-empty-dirs --no-resave-data flowClean StartedAt: 2021-10-14 14:11:00 -0400 (Thu, 14 Oct 2021) EndedAt: 2021-10-14 14:11:58 -0400 (Thu, 14 Oct 2021) EllapsedTime: 57.8 seconds RetCode: 0 Status: OK PackageFile: flowClean_1.30.0.tar.gz PackageFileSize: 4.587 MiB