Package: flowClean Version: 1.30.0 Command: /home/biocbuild/bbs-3.13-bioc/R/bin/R CMD check --install=check:flowClean.install-out.txt --library=/home/biocbuild/bbs-3.13-bioc/R/library --no-vignettes --timings flowClean_1.30.0.tar.gz StartedAt: 2021-10-14 09:52:01 -0400 (Thu, 14 Oct 2021) EndedAt: 2021-10-14 09:52:57 -0400 (Thu, 14 Oct 2021) EllapsedTime: 56.1 seconds RetCode: 0 Status: WARNINGS CheckDir: flowClean.Rcheck Warnings: 3