Package: flowBin Version: 1.28.0 Command: /Library/Frameworks/R.framework/Versions/Current/Resources/bin/R CMD check --install=check:flowBin.install-out.txt --library=/Library/Frameworks/R.framework/Versions/Current/Resources/library --no-vignettes --timings flowBin_1.28.0.tar.gz StartedAt: 2021-10-14 19:05:05 -0400 (Thu, 14 Oct 2021) EndedAt: 2021-10-14 19:06:54 -0400 (Thu, 14 Oct 2021) EllapsedTime: 108.6 seconds RetCode: 0 Status: OK CheckDir: flowBin.Rcheck Warnings: 0