git_url: https://git.bioconductor.org/packages/flowAI git_branch: RELEASE_3_13 git_last_commit: a517a94 git_last_commit_date: 2021-05-19 12:17:33 -0400 (Wed, 19 May 2021) Package: flowAI Version: 1.22.0 Maintainer: Gianni Monaco MaintainerEmail: mongianni1 at gmail.com