Package: fgga Version: 1.0.0 Command: /Library/Frameworks/R.framework/Versions/Current/Resources/bin/R CMD check --install=check:fgga.install-out.txt --library=/Library/Frameworks/R.framework/Versions/Current/Resources/library --no-vignettes --timings fgga_1.0.0.tar.gz StartedAt: 2021-10-14 19:01:39 -0400 (Thu, 14 Oct 2021) EndedAt: 2021-10-14 19:03:55 -0400 (Thu, 14 Oct 2021) EllapsedTime: 136.3 seconds RetCode: 0 Status: WARNINGS CheckDir: fgga.Rcheck Warnings: 1