Package: fcoex Version: 1.6.0 Command: /home/biocbuild/bbs-3.13-bioc/R/bin/R CMD INSTALL fcoex StartedAt: 2021-10-14 06:28:43 -0400 (Thu, 14 Oct 2021) EndedAt: 2021-10-14 06:29:23 -0400 (Thu, 14 Oct 2021) EllapsedTime: 39.8 seconds RetCode: 0 Status: OK