Package: fastLiquidAssociation Version: 1.28.0 Command: C:\cygwin\bin\curl.exe -O http://155.52.207.165/BBS/3.13/bioc/src/contrib/fastLiquidAssociation_1.28.0.tar.gz && rm -rf fastLiquidAssociation.buildbin-libdir && mkdir fastLiquidAssociation.buildbin-libdir && C:\Users\biocbuild\bbs-3.13-bioc\R\bin\R.exe CMD INSTALL --merge-multiarch --build --library=fastLiquidAssociation.buildbin-libdir fastLiquidAssociation_1.28.0.tar.gz && C:\Users\biocbuild\bbs-3.13-bioc\R\bin\R.exe CMD INSTALL fastLiquidAssociation_1.28.0.zip && rm fastLiquidAssociation_1.28.0.tar.gz fastLiquidAssociation_1.28.0.zip StartedAt: 2021-10-14 09:45:21 -0400 (Thu, 14 Oct 2021) EndedAt: 2021-10-14 09:46:04 -0400 (Thu, 14 Oct 2021) EllapsedTime: 43.4 seconds RetCode: 0 Status: OK