Package: fastLiquidAssociation Version: 1.28.0 Command: /home/biocbuild/bbs-3.13-bioc/R/bin/R CMD build --keep-empty-dirs --no-resave-data fastLiquidAssociation StartedAt: 2021-10-14 07:15:08 -0400 (Thu, 14 Oct 2021) EndedAt: 2021-10-14 07:16:18 -0400 (Thu, 14 Oct 2021) EllapsedTime: 70.9 seconds RetCode: 0 Status: OK PackageFile: fastLiquidAssociation_1.28.0.tar.gz PackageFileSize: 587.8 KiB