Package: fabia Version: 2.38.0 Command: /Library/Frameworks/R.framework/Versions/Current/Resources/bin/R CMD check --install=check:fabia.install-out.txt --library=/Library/Frameworks/R.framework/Versions/Current/Resources/library --no-vignettes --timings fabia_2.38.0.tar.gz StartedAt: 2021-10-14 18:57:48 -0400 (Thu, 14 Oct 2021) EndedAt: 2021-10-14 18:59:11 -0400 (Thu, 14 Oct 2021) EllapsedTime: 83.1 seconds RetCode: 0 Status: OK CheckDir: fabia.Rcheck Warnings: 0