Package: fCCAC Version: 1.18.0 Command: /home/biocbuild/bbs-3.13-bioc/R/bin/R CMD build --keep-empty-dirs --no-resave-data fCCAC StartedAt: 2021-10-14 07:15:19 -0400 (Thu, 14 Oct 2021) EndedAt: 2021-10-14 07:16:18 -0400 (Thu, 14 Oct 2021) EllapsedTime: 59.6 seconds RetCode: 0 Status: OK PackageFile: fCCAC_1.18.0.tar.gz PackageFileSize: 3.492 MiB