Package: exomeCopy Version: 1.38.0 Command: /home/biocbuild/bbs-3.13-bioc/R/bin/R CMD build --keep-empty-dirs --no-resave-data exomeCopy StartedAt: 2021-10-14 07:14:13 -0400 (Thu, 14 Oct 2021) EndedAt: 2021-10-14 07:14:45 -0400 (Thu, 14 Oct 2021) EllapsedTime: 32.3 seconds RetCode: 0 Status: OK PackageFile: exomeCopy_1.38.0.tar.gz PackageFileSize: 479.2 KiB