Package: exomeCopy Version: 1.38.0 Command: /Library/Frameworks/R.framework/Versions/Current/Resources/bin/R CMD check --install=check:exomeCopy.install-out.txt --library=/Library/Frameworks/R.framework/Versions/Current/Resources/library --no-vignettes --timings exomeCopy_1.38.0.tar.gz StartedAt: 2021-10-14 18:56:07 -0400 (Thu, 14 Oct 2021) EndedAt: 2021-10-14 18:58:27 -0400 (Thu, 14 Oct 2021) EllapsedTime: 140.1 seconds RetCode: 0 Status: OK CheckDir: exomeCopy.Rcheck Warnings: 0