Package: exomeCopy Version: 1.38.0 Command: /Library/Frameworks/R.framework/Versions/Current/Resources/bin/R CMD build --keep-empty-dirs --no-resave-data exomeCopy StartedAt: 2021-10-14 12:00:08 -0400 (Thu, 14 Oct 2021) EndedAt: 2021-10-14 12:01:04 -0400 (Thu, 14 Oct 2021) EllapsedTime: 56.1 seconds RetCode: 0 Status: OK PackageFile: exomeCopy_1.38.0.tar.gz PackageFileSize: 483.4 KiB