Package: exomeCopy Version: 1.38.0 Command: rm -rf exomeCopy.buildbin-libdir && mkdir exomeCopy.buildbin-libdir && /Users/biocbuild/BBS/utils/build-universal.sh exomeCopy_1.38.0.tar.gz /Library/Frameworks/R.framework/Versions/Current/Resources/bin/R exomeCopy.buildbin-libdir StartedAt: 2021-10-15 02:21:16 -0400 (Fri, 15 Oct 2021) EndedAt: 2021-10-15 02:22:04 -0400 (Fri, 15 Oct 2021) EllapsedTime: 47.9 seconds RetCode: 0 Status: OK PackageFile: exomeCopy_1.38.0.tgz PackageFileSize: 718.3 KiB