Package: esATAC Version: 1.14.0 Command: /home/biocbuild/bbs-3.13-bioc/R/bin/R CMD build --keep-empty-dirs --no-resave-data esATAC StartedAt: 2021-10-14 07:13:47 -0400 (Thu, 14 Oct 2021) EndedAt: 2021-10-14 07:15:26 -0400 (Thu, 14 Oct 2021) EllapsedTime: 98.9 seconds RetCode: 0 Status: OK PackageFile: esATAC_1.14.0.tar.gz PackageFileSize: 9.857 MiB