git_url: https://git.bioconductor.org/packages/esATAC git_branch: RELEASE_3_13 git_last_commit: 2939dd0 git_last_commit_date: 2021-05-19 12:31:59 -0400 (Wed, 19 May 2021) Package: esATAC Version: 1.14.0 Maintainer: Zheng Wei MaintainerEmail: wzweizheng at qq.com