Package: erccdashboard Version: 1.26.0 Command: /Library/Frameworks/R.framework/Versions/Current/Resources/bin/R CMD check --install=check:erccdashboard.install-out.txt --library=/Library/Frameworks/R.framework/Versions/Current/Resources/library --no-vignettes --timings erccdashboard_1.26.0.tar.gz StartedAt: 2021-10-14 18:51:44 -0400 (Thu, 14 Oct 2021) EndedAt: 2021-10-14 18:53:07 -0400 (Thu, 14 Oct 2021) EllapsedTime: 83.0 seconds RetCode: 0 Status: OK CheckDir: erccdashboard.Rcheck Warnings: 0