Package: ensembldb Version: 2.16.4 Command: /Library/Frameworks/R.framework/Versions/Current/Resources/bin/R CMD check --install=check:ensembldb.install-out.txt --library=/Library/Frameworks/R.framework/Versions/Current/Resources/library --no-vignettes --timings ensembldb_2.16.4.tar.gz StartedAt: 2021-10-14 18:44:12 -0400 (Thu, 14 Oct 2021) EndedAt: 2021-10-14 18:54:56 -0400 (Thu, 14 Oct 2021) EllapsedTime: 644.2 seconds RetCode: 0 Status: OK CheckDir: ensembldb.Rcheck Warnings: 0