Package: ensembldb Version: 2.16.4 Command: /Library/Frameworks/R.framework/Versions/Current/Resources/bin/R CMD build --keep-empty-dirs --no-resave-data ensembldb StartedAt: 2021-10-14 11:54:28 -0400 (Thu, 14 Oct 2021) EndedAt: 2021-10-14 11:57:22 -0400 (Thu, 14 Oct 2021) EllapsedTime: 174.6 seconds RetCode: 0 Status: OK PackageFile: ensembldb_2.16.4.tar.gz PackageFileSize: 3.118 MiB