Package: ensemblVEP Version: 1.34.0 Command: /Library/Frameworks/R.framework/Versions/Current/Resources/bin/R CMD build --keep-empty-dirs --no-resave-data ensemblVEP StartedAt: 2021-10-14 11:54:47 -0400 (Thu, 14 Oct 2021) EndedAt: 2021-10-14 11:59:16 -0400 (Thu, 14 Oct 2021) EllapsedTime: 269.0 seconds RetCode: 0 Status: OK PackageFile: ensemblVEP_1.34.0.tar.gz PackageFileSize: 335.7 KiB