Package: ensemblVEP Version: 1.34.0 Command: rm -rf ensemblVEP.buildbin-libdir && mkdir ensemblVEP.buildbin-libdir && /Users/biocbuild/BBS/utils/build-universal.sh ensemblVEP_1.34.0.tar.gz /Library/Frameworks/R.framework/Versions/Current/Resources/bin/R ensemblVEP.buildbin-libdir StartedAt: 2021-10-15 02:19:02 -0400 (Fri, 15 Oct 2021) EndedAt: 2021-10-15 02:20:12 -0400 (Fri, 15 Oct 2021) EllapsedTime: 70.6 seconds RetCode: 0 Status: OK PackageFile: ensemblVEP_1.34.0.tgz PackageFileSize: 722.3 KiB