Package: eegc Version: 1.18.0 Command: /home/biocbuild/bbs-3.13-bioc/R/bin/R CMD check --install=check:eegc.install-out.txt --library=/home/biocbuild/bbs-3.13-bioc/R/library --no-vignettes --timings eegc_1.18.0.tar.gz StartedAt: 2021-10-14 09:42:17 -0400 (Thu, 14 Oct 2021) EndedAt: 2021-10-14 09:49:45 -0400 (Thu, 14 Oct 2021) EllapsedTime: 447.4 seconds RetCode: 0 Status: WARNINGS CheckDir: eegc.Rcheck Warnings: 2