Package: edgeR Version: 3.34.1 Command: /home/biocbuild/bbs-3.13-bioc/R/bin/R CMD INSTALL edgeR StartedAt: 2021-10-14 06:03:22 -0400 (Thu, 14 Oct 2021) EndedAt: 2021-10-14 06:04:52 -0400 (Thu, 14 Oct 2021) EllapsedTime: 90.8 seconds RetCode: 0 Status: OK