Package: edgeR Version: 3.34.1 Command: /home/biocbuild/bbs-3.13-bioc/R/bin/R CMD check --install=check:edgeR.install-out.txt --library=/home/biocbuild/bbs-3.13-bioc/R/library --no-vignettes --timings edgeR_3.34.1.tar.gz StartedAt: 2021-10-14 09:42:00 -0400 (Thu, 14 Oct 2021) EndedAt: 2021-10-14 09:43:02 -0400 (Thu, 14 Oct 2021) EllapsedTime: 61.9 seconds RetCode: 0 Status: OK CheckDir: edgeR.Rcheck Warnings: 0