Package: edgeR Version: 3.34.1 Command: /home/biocbuild/bbs-3.13-bioc/R/bin/R CMD build --keep-empty-dirs --no-resave-data edgeR StartedAt: 2021-10-14 07:11:11 -0400 (Thu, 14 Oct 2021) EndedAt: 2021-10-14 07:12:58 -0400 (Thu, 14 Oct 2021) EllapsedTime: 106.8 seconds RetCode: 0 Status: OK PackageFile: edgeR_3.34.1.tar.gz PackageFileSize: 1.644 MiB