Package: edgeR Version: 3.34.1 Command: /Library/Frameworks/R.framework/Versions/Current/Resources/bin/R CMD INSTALL edgeR StartedAt: 2021-10-14 08:16:08 -0400 (Thu, 14 Oct 2021) EndedAt: 2021-10-14 08:18:06 -0400 (Thu, 14 Oct 2021) EllapsedTime: 117.6 seconds RetCode: 0 Status: OK