Package: edge Version: 2.24.0 Command: C:\Users\biocbuild\bbs-3.13-bioc\R\bin\R.exe CMD check --force-multiarch --install=check:edge.install-out.txt --library=C:\Users\biocbuild\bbs-3.13-bioc\R\library --no-vignettes --timings edge_2.24.0.tar.gz StartedAt: 2021-10-14 22:39:57 -0400 (Thu, 14 Oct 2021) EndedAt: 2021-10-14 22:44:44 -0400 (Thu, 14 Oct 2021) EllapsedTime: 287.2 seconds RetCode: 0 Status: WARNINGS CheckDir: edge.Rcheck Warnings: 1