Package: dyebias Version: 1.52.0 Command: rm -rf dyebias.buildbin-libdir && mkdir dyebias.buildbin-libdir && /Users/biocbuild/BBS/utils/build-universal.sh dyebias_1.52.0.tar.gz /Library/Frameworks/R.framework/Versions/Current/Resources/bin/R dyebias.buildbin-libdir StartedAt: 2021-10-15 02:16:07 -0400 (Fri, 15 Oct 2021) EndedAt: 2021-10-15 02:17:07 -0400 (Fri, 15 Oct 2021) EllapsedTime: 59.6 seconds RetCode: 0 Status: OK PackageFile: dyebias_1.52.0.tgz PackageFileSize: 2.113 MiB