Package: drugTargetInteractions Version: 1.0.2 Command: rm -rf drugTargetInteractions.buildbin-libdir && mkdir drugTargetInteractions.buildbin-libdir && /Users/biocbuild/BBS/utils/build-universal.sh drugTargetInteractions_1.0.2.tar.gz /Library/Frameworks/R.framework/Versions/Current/Resources/bin/R drugTargetInteractions.buildbin-libdir StartedAt: 2021-10-15 02:15:34 -0400 (Fri, 15 Oct 2021) EndedAt: 2021-10-15 02:16:34 -0400 (Fri, 15 Oct 2021) EllapsedTime: 59.7 seconds RetCode: 0 Status: OK PackageFile: drugTargetInteractions_1.0.2.tgz PackageFileSize: 990.3 KiB