git_url: https://git.bioconductor.org/packages/drugTargetInteractions git_branch: RELEASE_3_13 git_last_commit: dd1665a git_last_commit_date: 2021-08-26 14:37:10 -0400 (Thu, 26 Aug 2021) Package: drugTargetInteractions Version: 1.0.2 Maintainer: Thomas Girke MaintainerEmail: thomas.girke at ucr.edu