Package: dmrseq Version: 1.12.0 Command: /Library/Frameworks/R.framework/Versions/Current/Resources/bin/R CMD INSTALL dmrseq StartedAt: 2021-10-14 10:19:25 -0400 (Thu, 14 Oct 2021) EndedAt: 2021-10-14 10:20:35 -0400 (Thu, 14 Oct 2021) EllapsedTime: 70.1 seconds RetCode: 0 Status: OK