Package: dmrseq Version: 1.12.0 Command: /Library/Frameworks/R.framework/Versions/Current/Resources/bin/R CMD check --install=check:dmrseq.install-out.txt --library=/Library/Frameworks/R.framework/Versions/Current/Resources/library --no-vignettes --timings dmrseq_1.12.0.tar.gz StartedAt: 2021-10-14 18:30:04 -0400 (Thu, 14 Oct 2021) EndedAt: 2021-10-14 18:38:01 -0400 (Thu, 14 Oct 2021) EllapsedTime: 477.2 seconds RetCode: 0 Status: WARNINGS CheckDir: dmrseq.Rcheck Warnings: 1