git_url: https://git.bioconductor.org/packages/dmrseq git_branch: RELEASE_3_13 git_last_commit: e8485f3 git_last_commit_date: 2021-05-19 12:33:43 -0400 (Wed, 19 May 2021) Package: dmrseq Version: 1.12.0 Maintainer: Keegan Korthauer MaintainerEmail: keegan at stat.ubc.ca