Package: dks Version: 1.38.0 Command: chmod a+r dks -R && C:\Users\biocbuild\bbs-3.13-bioc\R\bin\R.exe CMD build --keep-empty-dirs --no-resave-data dks StartedAt: 2021-10-14 13:30:15 -0400 (Thu, 14 Oct 2021) EndedAt: 2021-10-14 13:30:40 -0400 (Thu, 14 Oct 2021) EllapsedTime: 25.2 seconds RetCode: 0 Status: OK PackageFile: dks_1.38.0.tar.gz PackageFileSize: 465.8 KiB