Package: dks Version: 1.38.0 Command: /home/biocbuild/bbs-3.13-bioc/R/bin/R CMD build --keep-empty-dirs --no-resave-data dks StartedAt: 2021-10-14 07:09:01 -0400 (Thu, 14 Oct 2021) EndedAt: 2021-10-14 07:09:12 -0400 (Thu, 14 Oct 2021) EllapsedTime: 11.4 seconds RetCode: 0 Status: OK PackageFile: dks_1.38.0.tar.gz PackageFileSize: 458.3 KiB