Package: distinct Version: 1.4.1 Command: /Library/Frameworks/R.framework/Versions/Current/Resources/bin/R CMD INSTALL distinct StartedAt: 2021-10-14 09:24:01 -0400 (Thu, 14 Oct 2021) EndedAt: 2021-10-14 09:25:37 -0400 (Thu, 14 Oct 2021) EllapsedTime: 96.9 seconds RetCode: 0 Status: OK