Package: distinct Version: 1.4.1 Command: rm -rf distinct.buildbin-libdir && mkdir distinct.buildbin-libdir && /Users/biocbuild/BBS/utils/build-universal.sh distinct_1.4.1.tar.gz /Library/Frameworks/R.framework/Versions/Current/Resources/bin/R distinct.buildbin-libdir StartedAt: 2021-10-15 02:13:20 -0400 (Fri, 15 Oct 2021) EndedAt: 2021-10-15 02:15:28 -0400 (Fri, 15 Oct 2021) EllapsedTime: 128.2 seconds RetCode: 0 Status: OK PackageFile: distinct_1.4.1.tgz PackageFileSize: 1.978 MiB