Package: destiny Version: 3.6.0 Command: /home/biocbuild/bbs-3.13-bioc/R/bin/R CMD INSTALL destiny StartedAt: 2021-10-14 06:19:50 -0400 (Thu, 14 Oct 2021) EndedAt: 2021-10-14 06:20:36 -0400 (Thu, 14 Oct 2021) EllapsedTime: 45.9 seconds RetCode: 0 Status: OK