Package: derfinderPlot Version: 1.26.0 Command: /Library/Frameworks/R.framework/Versions/Current/Resources/bin/R CMD check --install=check:derfinderPlot.install-out.txt --library=/Library/Frameworks/R.framework/Versions/Current/Resources/library --no-vignettes --timings derfinderPlot_1.26.0.tar.gz StartedAt: 2021-10-14 18:18:08 -0400 (Thu, 14 Oct 2021) EndedAt: 2021-10-14 18:28:35 -0400 (Thu, 14 Oct 2021) EllapsedTime: 627.1 seconds RetCode: 0 Status: OK CheckDir: derfinderPlot.Rcheck Warnings: 0