Package: densvis Version: 1.2.0 Command: C:\Users\biocbuild\bbs-3.13-bioc\R\bin\R.exe --arch x64 CMD check --no-multiarch --install=check:densvis.install-out.txt --library=C:\Users\biocbuild\bbs-3.13-bioc\R\library --no-vignettes --timings densvis_1.2.0.tar.gz StartedAt: 2021-10-14 22:07:20 -0400 (Thu, 14 Oct 2021) EndedAt: 2021-10-14 22:11:22 -0400 (Thu, 14 Oct 2021) EllapsedTime: 242.5 seconds RetCode: 0 Status: OK CheckDir: densvis.Rcheck Warnings: 0