Package: densvis Version: 1.2.0 Command: /Library/Frameworks/R.framework/Versions/Current/Resources/bin/R CMD INSTALL densvis StartedAt: 2021-10-14 08:22:39 -0400 (Thu, 14 Oct 2021) EndedAt: 2021-10-14 08:23:33 -0400 (Thu, 14 Oct 2021) EllapsedTime: 53.8 seconds RetCode: 0 Status: OK