git_url: https://git.bioconductor.org/packages/deltaCaptureC git_branch: RELEASE_3_13 git_last_commit: 1bc5aff git_last_commit_date: 2021-05-19 12:45:56 -0400 (Wed, 19 May 2021) Package: deltaCaptureC Version: 1.6.0 Maintainer: Michael Shapiro MaintainerEmail: sifka at earthlink.net