############################################################################## ############################################################################## ### ### Running command: ### ### C:\cygwin\bin\curl.exe -O http://155.52.207.165/BBS/3.13/bioc/src/contrib/decoupleR_1.0.0.tar.gz && rm -rf decoupleR.buildbin-libdir && mkdir decoupleR.buildbin-libdir && C:\Users\biocbuild\bbs-3.13-bioc\R\bin\R.exe CMD INSTALL --merge-multiarch --build --library=decoupleR.buildbin-libdir decoupleR_1.0.0.tar.gz && C:\Users\biocbuild\bbs-3.13-bioc\R\bin\R.exe CMD INSTALL decoupleR_1.0.0.zip && rm decoupleR_1.0.0.tar.gz decoupleR_1.0.0.zip ### ############################################################################## ############################################################################## % Total % Received % Xferd Average Speed Time Time Time Current Dload Upload Total Spent Left Speed 0 0 0 0 0 0 0 0 --:--:-- --:--:-- --:--:-- 0 81 356k 81 290k 0 0 960k 0 --:--:-- --:--:-- --:--:-- 960k 100 356k 100 356k 0 0 1040k 0 --:--:-- --:--:-- --:--:-- 1041k install for i386 * installing *source* package 'decoupleR' ... ** using staged installation ** R ** inst ** byte-compile and prepare package for lazy loading ** help *** installing help indices converting help for package 'decoupleR' finding HTML links ... done convert_f_defaults html convert_to_ html decouple html decoupleR-package html dot-decoupler_mat_format html dot-decoupler_network_format html filter_regulons html get_profile_of html pipe html pivot_wider_profile html randomize_matrix html run_gsva html run_mean html run_ora html run_pscira html run_scira html run_viper html tidyeval html ** building package indices ** installing vignettes ** testing if installed package can be loaded from temporary location ** testing if installed package can be loaded from final location ** testing if installed package keeps a record of temporary installation path install for x64 * installing *source* package 'decoupleR' ... ** testing if installed package can be loaded * MD5 sums packaged installation of 'decoupleR' as decoupleR_1.0.0.zip * DONE (decoupleR) * installing to library 'C:/Users/biocbuild/bbs-3.13-bioc/R/library' package 'decoupleR' successfully unpacked and MD5 sums checked