Package: decoupleR Version: 1.0.0 Command: chmod a+r decoupleR -R && C:\Users\biocbuild\bbs-3.13-bioc\R\bin\R.exe CMD build --keep-empty-dirs --no-resave-data decoupleR StartedAt: 2021-10-14 13:18:29 -0400 (Thu, 14 Oct 2021) EndedAt: 2021-10-14 13:19:52 -0400 (Thu, 14 Oct 2021) EllapsedTime: 82.3 seconds RetCode: 0 Status: OK PackageFile: decoupleR_1.0.0.tar.gz PackageFileSize: 637.4 KiB