Package: decoupleR Version: 1.0.0 Command: /home/biocbuild/bbs-3.13-bioc/R/bin/R CMD INSTALL decoupleR StartedAt: 2021-10-14 06:35:17 -0400 (Thu, 14 Oct 2021) EndedAt: 2021-10-14 06:35:23 -0400 (Thu, 14 Oct 2021) EllapsedTime: 6.0 seconds RetCode: 0 Status: OK