git_url: https://git.bioconductor.org/packages/decoupleR git_branch: RELEASE_3_13 git_last_commit: 2d54fd6 git_last_commit_date: 2021-05-19 13:03:42 -0400 (Wed, 19 May 2021) Package: decoupleR Version: 1.0.0 Maintainer: Jesús Vélez MaintainerEmail: jvelezmagic at gmail.com