Package: decontam Version: 1.12.0 Command: chmod a+r decontam -R && C:\Users\biocbuild\bbs-3.13-bioc\R\bin\R.exe CMD build --keep-empty-dirs --no-resave-data decontam StartedAt: 2021-10-14 13:17:37 -0400 (Thu, 14 Oct 2021) EndedAt: 2021-10-14 13:18:29 -0400 (Thu, 14 Oct 2021) EllapsedTime: 52.1 seconds RetCode: 0 Status: OK PackageFile: decontam_1.12.0.tar.gz PackageFileSize: 458.6 KiB