Package: decontam Version: 1.12.0 Command: /home/biocbuild/bbs-3.13-bioc/R/bin/R CMD check --install=check:decontam.install-out.txt --library=/home/biocbuild/bbs-3.13-bioc/R/library --no-vignettes --timings decontam_1.12.0.tar.gz StartedAt: 2021-10-14 09:30:19 -0400 (Thu, 14 Oct 2021) EndedAt: 2021-10-14 09:30:58 -0400 (Thu, 14 Oct 2021) EllapsedTime: 38.9 seconds RetCode: 0 Status: OK CheckDir: decontam.Rcheck Warnings: 0