Package: decontam Version: 1.12.0 Command: /home/biocbuild/bbs-3.13-bioc/R/bin/R CMD build --keep-empty-dirs --no-resave-data decontam StartedAt: 2021-10-14 07:05:46 -0400 (Thu, 14 Oct 2021) EndedAt: 2021-10-14 07:06:10 -0400 (Thu, 14 Oct 2021) EllapsedTime: 24.9 seconds RetCode: 0 Status: OK PackageFile: decontam_1.12.0.tar.gz PackageFileSize: 671.5 KiB