Package: decontam Version: 1.12.0 Command: /Library/Frameworks/R.framework/Versions/Current/Resources/bin/R CMD INSTALL decontam StartedAt: 2021-10-14 08:52:03 -0400 (Thu, 14 Oct 2021) EndedAt: 2021-10-14 08:52:56 -0400 (Thu, 14 Oct 2021) EllapsedTime: 53.3 seconds RetCode: 0 Status: OK